BEGIN:VCALENDAR
PRODID:-//Microsoft Corporation//Outlook 14.0 MIMEDIR//EN
VERSION:2.0
METHOD:PUBLISH
BEGIN:VEVENT
UID:e1f4e7ca90830d19c372f90802daa76awww.caberable.org
DTSTAMP:20260425T111857Z
DTSTART:2026-09-10T17:00:0000Z
DTEND:2026-09-10T19:00:0000Z
SUMMARY:45e anniversaire du Centre d’action bénévole de l’Érable
LOCATION:
DESCRIPTION:Fondé en 1981, le CABÉ célèbre cette année 45 ans d’engagement envers la région de L’Érable. Venez célébrer avec nous!
END:VEVENT
END:VCALENDAR